BEGIN:VCALENDAR
VERSION:2.0
PRODID:-//South Canterbury Drama League - ECPv6.10.2//NONSGML v1.0//EN
CALSCALE:GREGORIAN
METHOD:PUBLISH
X-WR-CALNAME:South Canterbury Drama League
X-ORIGINAL-URL:https://dramaleague.org.nz
X-WR-CALDESC:Events for South Canterbury Drama League
REFRESH-INTERVAL;VALUE=DURATION:PT1H
X-Robots-Tag:noindex
X-PUBLISHED-TTL:PT1H
BEGIN:VTIMEZONE
TZID:UTC
BEGIN:STANDARD
TZOFFSETFROM:+0000
TZOFFSETTO:+0000
TZNAME:UTC
DTSTART:20250101T000000
END:STANDARD
END:VTIMEZONE
BEGIN:VEVENT
DTSTART;TZID=UTC:20251128T190000
DTEND;TZID=UTC:20251206T213000
DTSTAMP:20260424T230432
CREATED:20251022T024528Z
LAST-MODIFIED:20251112T021616Z
UID:4222-1764356400-1765056600@dramaleague.org.nz
SUMMARY:Tom\, Dick & Harry
DESCRIPTION:Tom and his wife are about to adopt a baby — it’s the happiest day of their lives… or at least it would have been if Tom’s well-meaning brothers\, Dick and Harry\, hadn’t decided to “help.” \nTheir efforts quickly spiral out of control\, resulting in two illegal immigrants\, a van full of contraband cigarettes\, and one very inconvenient dead body! \nWith the arrival of the Supervisor from the Adoption Agency and the local Police Constable\, Tom’s quick thinking is pushed to the limit. But surely things can’t get any worse… can they? \nOh yes\, they can! \nDick and Harry’s ever-helpful plans go from bad to utterly disastrous\, adding a Russian Mafia mobster and a reality TV crew into the mix. Then it really starts to get complicated! \nWe’re thrilled to present this Amateur Community Theatre Production\, by special arrangement with Samuel French Ltd and Play Bureau Ltd.
URL:https://dramaleague.org.nz/event/tom-dick-harry/
LOCATION:The Playhouse\, 198 Church Street\, Timaru\, 7910\, New Zealand
CATEGORIES:All,Current Shows,Playhouse Productions,Upcoming Shows
ATTACH;FMTTYPE=image/jpeg:https://dramaleague.org.nz/wp-content/uploads/tdh-scdl-website.jpg
ORGANIZER;CN="South Canterbury Drama League":MAILTO:manager@dramaleague.org.nz
END:VEVENT
END:VCALENDAR