BEGIN:VCALENDAR
VERSION:2.0
PRODID:-//South Canterbury Drama League - ECPv6.10.2//NONSGML v1.0//EN
CALSCALE:GREGORIAN
METHOD:PUBLISH
X-WR-CALNAME:South Canterbury Drama League
X-ORIGINAL-URL:https://dramaleague.org.nz
X-WR-CALDESC:Events for South Canterbury Drama League
REFRESH-INTERVAL;VALUE=DURATION:PT1H
X-Robots-Tag:noindex
X-PUBLISHED-TTL:PT1H
BEGIN:VTIMEZONE
TZID:UTC
BEGIN:STANDARD
TZOFFSETFROM:+0000
TZOFFSETTO:+0000
TZNAME:UTC
DTSTART:20170101T000000
END:STANDARD
END:VTIMEZONE
BEGIN:VEVENT
DTSTART;VALUE=DATE:20171118
DTEND;VALUE=DATE:20171120
DTSTAMP:20260424T212152
CREATED:20171010T063024Z
LAST-MODIFIED:20171010T063431Z
UID:779-1510963200-1511135999@dramaleague.org.nz
SUMMARY:Seussical Kids & Hairspray Jr Auditions
DESCRIPTION:In 2018 the Junior Section of the South Canterbury Drama League will be presenting a double billing for their annual show. This is a new format and will give more children the opportunity to shine onstage.  “Seussical Kids“ will give our younger juniors\, ages 8-13 the opportunity to take on exciting roles created by Dr Seuss. “Hairspray Jr” for the 13-18 year olds is packed with singing and dancing for the entire cast.  Full information contact Lauren O’Connor\, \nJuniors Chairperson at telman@xtra.co.nz \nDownload your audition pack HERE
URL:https://dramaleague.org.nz/event/seussical-kids-hairspray-jr-auditions/
LOCATION:The Playhouse\, 198 Church Street\, Timaru\, 7910\, New Zealand
CATEGORIES:All,Auditions
ATTACH;FMTTYPE=image/png:https://dramaleague.org.nz/wp-content/uploads/poster.png
ORGANIZER;CN="South Canterbury Drama League":MAILTO:manager@dramaleague.org.nz
END:VEVENT
BEGIN:VEVENT
DTSTART;TZID=UTC:20171114T184500
DTEND;TZID=UTC:20171114T203000
DTSTAMP:20260424T212152
CREATED:20171010T025144Z
LAST-MODIFIED:20171010T061343Z
UID:747-1510685100-1510691400@dramaleague.org.nz
SUMMARY:Seussical Kids & Hairspray Jr Workshops
DESCRIPTION:In 2018 the Junior Section of the South Canterbury Drama League will be presenting a double billing for their annual show. This is a new format and will give more children the opportunity to shine onstage.  “Seussical Kids“ will give our younger juniors\, ages 8-13 the opportunity to take on exciting roles created by Dr Seuss. “Hairspray Jr” for the 13-18 year olds is packed with singing and dancing for the entire cast.  Full information contact Lauren O’Connor\, \nJuniors Chairperson at telman@xtra.co.nz
URL:https://dramaleague.org.nz/event/seusical-jr-hairspray-jr-workshops/
LOCATION:The Playhouse\, 198 Church Street\, Timaru\, 7910\, New Zealand
CATEGORIES:All,Workshops
ATTACH;FMTTYPE=image/png:https://dramaleague.org.nz/wp-content/uploads/poster.png
ORGANIZER;CN="South Canterbury Drama League":MAILTO:manager@dramaleague.org.nz
END:VEVENT
BEGIN:VEVENT
DTSTART;TZID=UTC:20171109T193000
DTEND;TZID=UTC:20171125T203000
DTSTAMP:20260424T212152
CREATED:20170921T230904Z
LAST-MODIFIED:20171016T020712Z
UID:709-1510255800-1511641800@dramaleague.org.nz
SUMMARY:Variety: A Kiwi Comedy
DESCRIPTION:Moira wants to run for local MP – her problem? The locals don’t like her and the feeling is mutual. At the town meeting Moira finds herself making all kinds of weird promises to win everyone over… including lying to the local hippy that she will be opening a Kiwi sanctuary – unfortunately\, this is a lie – but the lie catches on. Suddenly\, Moira\, stuck in a lie finds herself entrenched with the locals planning a Fundraiser Variety Show for the Kiwi Sanctuary that doesn’t exits… town venues\, the Ladies Choir\, the local Drama Group’s competitive Variety Show\, the media\, enemies and all the town’s “stars” are thrown into Moira’s life. But what will she do if the truth comes out?
URL:https://dramaleague.org.nz/event/variety-kiwi-comedy/
LOCATION:The Local\, 123 Stafford Street\, Timaru\, South Canterbury\, 7910\, New Zealand
CATEGORIES:All,Upcoming Shows
ATTACH;FMTTYPE=image/jpeg:https://dramaleague.org.nz/wp-content/uploads/dinner-show.jpg
ORGANIZER;CN="South Canterbury Drama League":MAILTO:manager@dramaleague.org.nz
END:VEVENT
BEGIN:VEVENT
DTSTART;TZID=UTC:20171006T193000
DTEND;TZID=UTC:20171013T220000
DTSTAMP:20260424T212152
CREATED:20170823T030301Z
LAST-MODIFIED:20170915T042221Z
UID:254-1507318200-1507932000@dramaleague.org.nz
SUMMARY:Mums Choir
DESCRIPTION:Mum’s Choir\, a heartwarming Kiwi comedy about family\, laughter\, love and music. \nWritten by Alison Quigan\, the story revolves around five adult children who gather at the family home to prepare for their mother’s funeral.\nThe five siblings consist of farmer’s wife Cathy (Alice Sollis)\, bachelor music teacher Noel (John Roxburgh)\,Aussie-based used car salesman Kev (Malcolm Eadie)\, pregnant mother of four Terri (Carolyn Willis)\, and University lecturer Jean (Morag Carter). \nThey are joined by Cathy’s son Matt\,(Nathan Butler) – who rushes back from his Army job in the Solomons\, and mum’s sister\, dear old Aunty Nola (Jude Walker). When the children were growing up the house was always full of music and Mum’s dying wish was for the family to sing Fauré’s Requiem at her funeral. So they have their work cut out to learn their parts in time\, not to mention write the eulogy\, organise the catering\, contact Mum’s friends etc. \nThe family have great fun reminiscing with lots of all their old favourite songs\, such as “Amore”\, “In the Mood”\, “The Good Ship Lollipop”\, “Java Jive” and the beautiful Maori song “Hine E Hine”. However\, it’s not all singing or sadness. There are family secrets to be revealed\, cheeky sibling rivalry\, a few tears along the way\, and loads of witty one-liners. Mum’s Choir is not a musical\, it is a play where the actors naturally burst into song fairly often. This delightful play is bound to be a winner.
URL:https://dramaleague.org.nz/event/mums-choir/
LOCATION:The Playhouse\, 198 Church Street\, Timaru\, 7910\, New Zealand
CATEGORIES:All,Upcoming Shows
ATTACH;FMTTYPE=image/jpeg:https://dramaleague.org.nz/wp-content/uploads/mumchoir-1200x700.jpg
ORGANIZER;CN="South Canterbury Drama League":MAILTO:manager@dramaleague.org.nz
END:VEVENT
BEGIN:VEVENT
DTSTART;VALUE=DATE:20171002
DTEND;VALUE=DATE:20171008
DTSTAMP:20260424T212152
CREATED:20170917T231544Z
LAST-MODIFIED:20170921T023126Z
UID:628-1506902400-1507420799@dramaleague.org.nz
SUMMARY:Power 2 Perform
DESCRIPTION:The South Canterbury Drama League welcomes you to ‘Power 2 Perform’ and hopes that you\, the students\, make the most of the opportunity to learn from Alice Sollis & Kimble Henderson.
URL:https://dramaleague.org.nz/event/power-2-perform/
LOCATION:The Playhouse\, 198 Church Street\, Timaru\, 7910\, New Zealand
CATEGORIES:All,Workshops
ATTACH;FMTTYPE=image/jpeg:https://dramaleague.org.nz/wp-content/uploads/power2perform.jpg
ORGANIZER;CN="South Canterbury Drama League":MAILTO:manager@dramaleague.org.nz
END:VEVENT
BEGIN:VEVENT
DTSTART;TZID=UTC:20170914T080000
DTEND;TZID=UTC:20170914T170000
DTSTAMP:20260424T212152
CREATED:20170914T022135Z
LAST-MODIFIED:20170914T022135Z
UID:525-1505376000-1505408400@dramaleague.org.nz
SUMMARY:Show Audition
DESCRIPTION:
URL:https://dramaleague.org.nz/event/show-audition/
CATEGORIES:Auditions
ATTACH;FMTTYPE=image/jpeg:https://dramaleague.org.nz/wp-content/uploads/showstoppper-1200x700.jpg
END:VEVENT
BEGIN:VEVENT
DTSTART;TZID=UTC:20170901T193000
DTEND;TZID=UTC:20170916T213000
DTSTAMP:20260424T212152
CREATED:20170823T021040Z
LAST-MODIFIED:20170912T045851Z
UID:210-1504294200-1505597400@dramaleague.org.nz
SUMMARY:Avenue Q
DESCRIPTION:We’re super excited to announce that we’re expecting Avenue Q will be the funniest\, most outrageous show you will go to.  Ever!  If you grew up with Sesame Street\, or watched with your kids as they grew up with it\, then you absolutely must see this show. \nIf you don’t know about Avenue Q\, it is a top Broadway show\, winning three Tony’s – Best Musical\, Best Score and Best Book.  Avenue Q is part flesh\, part felt and packed with heart. \nThere are puppets involved that act and sing and dance (the music is fantastic and very\, very catchy!).  There are puppeteers right there on stage\, performing right alongside the puppets. \nAvenue Q tells the story of a group of young adults — both humans and puppets — facing life’s lessons and everyday problems\, such as the struggle to find a purpose\, a job and love.  The language and lessons are a little risqué the lessons are grown-up lessons. \nAvenue Q is hilarious\, cheeky and uproariously entertaining\, with a terrific bunch of songs performed by a cast of hugely talented performers and puppets.  Avenue Q is a musical like no other with songs like ‘Everyone’s a Little Bit Racist’\, ‘It Sucks to Be Me’ and ‘If You Were Gay’’. \nKeep your attention on those puppets. At times the puppets will be rude\, some of the things they say are blunt\, but that’s what makes this show so hilarious. The sheer uniqueness of this show is beyond compare.  If you have a good sense of humour\, can handle a few naughty words now and then\, and want to have some fun laughing about the unfairness of life\, then go see this show! The songs are so funny\, honest\, and reveal what all of us are thinking but are afraid to say out loud.   But be warned it is NOT a show for kids.  It is rated R16 and FPN* (* Full Puppet Nudity) \nThere are two ticketing options. \n\nShow Only ticket is $39 (doors open 6.45pm).\nDinner+Show ticket is $69 and includes a pre-show 2-course buffet dinner (served from 6pm)\, an Avenue Q 69’er cocktail* served in your own take home LED cocktail glass (*non-alcoholic alternatives available) and a complimentary programme.\n\nSo don’t let your life suck – tickets are now on sale\, make sure you book early\, limited seats available!
URL:https://dramaleague.org.nz/event/avenue-q/
LOCATION:The Playhouse\, 198 Church Street\, Timaru\, 7910\, New Zealand
CATEGORIES:All,Current Shows
ATTACH;FMTTYPE=image/jpeg:https://dramaleague.org.nz/wp-content/uploads/avenueq-1200x700.jpg
ORGANIZER;CN="South Canterbury Drama League":MAILTO:manager@dramaleague.org.nz
END:VEVENT
BEGIN:VEVENT
DTSTART;TZID=UTC:20170824T190000
DTEND;TZID=UTC:20170923T210000
DTSTAMP:20260424T212152
CREATED:20170718T002459Z
LAST-MODIFIED:20170912T020511Z
UID:141-1503601200-1506200400@dramaleague.org.nz
SUMMARY:Showstoppers 2
DESCRIPTION:Showstoppers 2 – favourite hits from the Musicals we’ve never done sung by SC’s finest singers at the Theatre Royal July 2017.
URL:https://dramaleague.org.nz/event/showstoppers-2/
LOCATION:The Theatre Royal\, Timaru\, 124 Stafford St\, Timaru\, South Canterbury\, 7910\, New Zealand
CATEGORIES:All
ATTACH;FMTTYPE=image/jpeg:https://dramaleague.org.nz/wp-content/uploads/showstoppper-1200x700.jpg
ORGANIZER;CN="South Canterbury Drama League":MAILTO:manager@dramaleague.org.nz
END:VEVENT
END:VCALENDAR