BEGIN:VCALENDAR
VERSION:2.0
PRODID:-//South Canterbury Drama League - ECPv6.10.2//NONSGML v1.0//EN
CALSCALE:GREGORIAN
METHOD:PUBLISH
X-ORIGINAL-URL:https://dramaleague.org.nz
X-WR-CALDESC:Events for South Canterbury Drama League
REFRESH-INTERVAL;VALUE=DURATION:PT1H
X-Robots-Tag:noindex
X-PUBLISHED-TTL:PT1H
BEGIN:VTIMEZONE
TZID:UTC
BEGIN:STANDARD
TZOFFSETFROM:+0000
TZOFFSETTO:+0000
TZNAME:UTC
DTSTART:20260101T000000
END:STANDARD
END:VTIMEZONE
BEGIN:VEVENT
DTSTART;TZID=UTC:20260307T100000
DTEND;TZID=UTC:20260307T140000
DTSTAMP:20260424T211751
CREATED:20260227T015144Z
LAST-MODIFIED:20260227T015145Z
UID:4244-1772877600-1772892000@dramaleague.org.nz
SUMMARY:Dreamland Project - Workshop
DESCRIPTION:Dreamland Project Workshop –\nHelp Write the League’s Future\n\n\nThe Dreamland Project is our working guide\, a living document designed to keep the South Canterbury Drama League strong\, efficient\, and a society we can all be proud of. \nBut the League is nothing without its members and supporters. \nThat’s why we’re inviting you to join us for the Dreamland Project Workshop a collaborative\, creative brainstorming session where every idea is welcome. \n🗓 Saturday\, March 7th\, 10.00am–2.00pm📍 The Playhouse \nTogether we’ll explore everything that shapes our future\, including: \n\n\nShows\, events and programming ideas \n\n\nGrowing audiences and membership \n\n\nStrengthening connections with schools\, artists\, cultural groups and local organisations \n\n\nTraining in acting\, directing\, writing\, technical theatre and governance \n\n\nSound\, lighting and technical development \n\n\nEnhancing facilities and front-of-house experience \n\nCreating a welcoming\, inclusive environment for all\n\n\nLooking after volunteers\n\nHave an idea you’ve always wanted to share?Now’s your chance. \nWhether you’re a performer\, technician\, volunteer\, supporter\, audience member\, or simply passionate about theatre\, your voice matters. \n✨ Come help write the next act of the League’s story.🥪 Lunch is on us (please advise any dietary requirements). \n📩 RSVP by March 4th\, 2026 for catering purposes: manager@dramaleague.org.nz \nLet’s dream boldly and shape the future of our League together.
URL:https://dramaleague.org.nz/event/dreamland-project-workshop-2/
LOCATION:The Playhouse\, 198 Church Street\, Timaru\, 7910\, New Zealand
CATEGORIES:All,Workshops
ATTACH;FMTTYPE=image/png:https://dramaleague.org.nz/wp-content/uploads/Dreamland-Project-A4-Landscape-8.png
END:VEVENT
BEGIN:VEVENT
DTSTART;TZID=UTC:20260416T070000
DTEND;TZID=UTC:20260425T210000
DTSTAMP:20260424T211751
CREATED:20260227T015907Z
LAST-MODIFIED:20260227T020037Z
UID:4247-1776322800-1777150800@dramaleague.org.nz
SUMMARY:Shrek The Musical
DESCRIPTION:Get ready for a hilarious\, heartwarming fairy-tale adventure with Shrek The Musical! (DreamWorks) \nBased on the Oscar®-winning DreamWorks film Shrek and the beloved book by William Steig\, this larger-than-life stage production brings everyone’s favorite ogre to life in a dazzling musical spectacle. \nJoin Shrek\, a grumpy but lovable ogre\, whose peaceful swamp is suddenly invaded by fairy-tale misfits. To reclaim his home\, Shrek sets out on an unforgettable quest alongside a fast-talking Donkey and the feisty Princess Fiona. Along the way\, they encounter dragons\, villains\, and plenty of surprises! \nFilled with catchy songs\, vibrant costumes\, laugh-out-loud comedy\, and a powerful message about friendship\, love\, and embracing who you truly are\, Shrek The Musical is perfect for audiences of all ages. \nDon’t miss this magical\, muddy\, and monstrously fun experience!
URL:https://dramaleague.org.nz/event/shrek-the-musical/
LOCATION:The Playhouse\, 198 Church Street\, Timaru\, 7910\, New Zealand
CATEGORIES:All,Junior's
ATTACH;FMTTYPE=image/jpeg:https://dramaleague.org.nz/wp-content/uploads/Shrek-scdl-website.jpg
ORGANIZER;CN="South Canterbury Drama League":MAILTO:manager@dramaleague.org.nz
END:VEVENT
END:VCALENDAR