BEGIN:VCALENDAR
VERSION:2.0
PRODID:-//South Canterbury Drama League - ECPv6.10.2//NONSGML v1.0//EN
CALSCALE:GREGORIAN
METHOD:PUBLISH
X-ORIGINAL-URL:https://dramaleague.org.nz
X-WR-CALDESC:Events for South Canterbury Drama League
REFRESH-INTERVAL;VALUE=DURATION:PT1H
X-Robots-Tag:noindex
X-PUBLISHED-TTL:PT1H
BEGIN:VTIMEZONE
TZID:UTC
BEGIN:STANDARD
TZOFFSETFROM:+0000
TZOFFSETTO:+0000
TZNAME:UTC
DTSTART:20180101T000000
END:STANDARD
END:VTIMEZONE
BEGIN:VEVENT
DTSTART;VALUE=DATE:20180312
DTEND;VALUE=DATE:20180315
DTSTAMP:20260424T161305
CREATED:20180125T032053Z
LAST-MODIFIED:20180214T203943Z
UID:946-1520812800-1521071999@dramaleague.org.nz
SUMMARY:Menopause The Musical - AUDITIONS
DESCRIPTION:Monday 12th & Wednesday 14th March 7pm @ The Playhouse\, Church Street\, Timaru.\nSHOW DATES: 22nd to 30th June 2018\nDirector Alice Sollis\nMusical Director Sharleyne Diamond \nSeeking four women aged 40+ with strong comedic skills\, pop/rock vocal style & the ability to harmonise Dance/movement skill a definite advantage. \nAUDITIONS BY APPOINTMENT:\nEnquiries and to book audition time email\nalicesollis@actrix.co.nz
URL:https://dramaleague.org.nz/event/menopause-musical-auditions/
LOCATION:The Playhouse\, 198 Church Street\, Timaru\, 7910\, New Zealand
CATEGORIES:All,Auditions
ATTACH;FMTTYPE=image/jpeg:https://dramaleague.org.nz/wp-content/uploads/menopause2.jpg
ORGANIZER;CN="South Canterbury Drama League":MAILTO:manager@dramaleague.org.nz
END:VEVENT
BEGIN:VEVENT
DTSTART;VALUE=DATE:20180322
DTEND;VALUE=DATE:20180330
DTSTAMP:20260424T161305
CREATED:20171123T010844Z
LAST-MODIFIED:20180222T210118Z
UID:900-1521676800-1522367999@dramaleague.org.nz
SUMMARY:Amorous Ambassador
DESCRIPTION:When Harry Douglas\, the new American Ambassador to Great Britain\, tells his family he is going to Scotland to play golf\, his wife and daughter announce weekend plans of their own.\nTheir newly hired butler\, Perkins\, watches stoically as each leaves and secretly returns for a romantic rendezvous in the empty house. \nHarry’s secretary and Captain South of Marine Corps Embassy Security then arrive in the wake of a bomb threat and the embassy is sealed off\, with hilarious results. \nEven the imperturbable Perkins is drawn into the shenanigans.
URL:https://dramaleague.org.nz/event/amorous-ambassador/
LOCATION:The Playhouse\, 198 Church Street\, Timaru\, 7910\, New Zealand
CATEGORIES:All,Upcoming Shows
ATTACH;FMTTYPE=image/jpeg:https://dramaleague.org.nz/wp-content/uploads/aa-poster2.jpg
ORGANIZER;CN="South Canterbury Drama League":MAILTO:manager@dramaleague.org.nz
END:VEVENT
END:VCALENDAR